BEGIN:VCALENDAR
VERSION:2.0
PRODID:-//Steirischer Jagdhunde - ECPv5.9.0//NONSGML v1.0//EN
CALSCALE:GREGORIAN
METHOD:PUBLISH
X-WR-CALNAME:Steirischer Jagdhunde
X-ORIGINAL-URL:https://www.stjhpv.at
X-WR-CALDESC:Events for Steirischer Jagdhunde
BEGIN:VTIMEZONE
TZID:Europe/Vienna
BEGIN:DAYLIGHT
TZOFFSETFROM:+0100
TZOFFSETTO:+0200
TZNAME:CEST
DTSTART:20250330T010000
END:DAYLIGHT
BEGIN:STANDARD
TZOFFSETFROM:+0200
TZOFFSETTO:+0100
TZNAME:CET
DTSTART:20251026T010000
END:STANDARD
END:VTIMEZONE
BEGIN:VEVENT
DTSTART;VALUE=DATE:20251004
DTEND;VALUE=DATE:20251006
DTSTAMP:20260426T025139
CREATED:20241210T125411Z
LAST-MODIFIED:20250818T080924Z
UID:6254-1759536000-1759708799@www.stjhpv.at
SUMMARY:Vollgebrauchsprüfung - AUSGEBUCHT
DESCRIPTION:Die Anmeldung zur VGP ist leider nicht mehr möglich!\nPrüfung ist AUSGEBUCHT \n  \nAnmeldezeitraum: AUSGEBUCHT \nNenngeld: € 95\,- (bei Nichtmitgliedschaft des Vereines zusätzlich € 40\,-) \nTreffpunkt: Mostschenke Waldhüter – Stegweg 2\, 8430 Leibnitz \n  \nHier gehts zur Anmeldung >> Nennungsformular
URL:https://www.stjhpv.at/termine/vollgebrauchspruefung/
CATEGORIES:Prüfungen,Termine
END:VEVENT
END:VCALENDAR